BEGIN:VCALENDAR
VERSION:2.0
PRODID:-//The City of Asheville - ECPv6.15.15//NONSGML v1.0//EN
CALSCALE:GREGORIAN
METHOD:PUBLISH
X-WR-CALNAME:The City of Asheville
X-ORIGINAL-URL:https://www.ashevillenc.gov
X-WR-CALDESC:Events for The City of Asheville
REFRESH-INTERVAL;VALUE=DURATION:PT1H
X-Robots-Tag:noindex
X-PUBLISHED-TTL:PT1H
BEGIN:VTIMEZONE
TZID:America/New_York
BEGIN:DAYLIGHT
TZOFFSETFROM:-0500
TZOFFSETTO:-0400
TZNAME:EDT
DTSTART:20250309T070000
END:DAYLIGHT
BEGIN:STANDARD
TZOFFSETFROM:-0400
TZOFFSETTO:-0500
TZNAME:EST
DTSTART:20251102T060000
END:STANDARD
BEGIN:DAYLIGHT
TZOFFSETFROM:-0500
TZOFFSETTO:-0400
TZNAME:EDT
DTSTART:20260308T070000
END:DAYLIGHT
BEGIN:STANDARD
TZOFFSETFROM:-0400
TZOFFSETTO:-0500
TZNAME:EST
DTSTART:20261101T060000
END:STANDARD
BEGIN:DAYLIGHT
TZOFFSETFROM:-0500
TZOFFSETTO:-0400
TZNAME:EDT
DTSTART:20270314T070000
END:DAYLIGHT
BEGIN:STANDARD
TZOFFSETFROM:-0400
TZOFFSETTO:-0500
TZNAME:EST
DTSTART:20271107T060000
END:STANDARD
END:VTIMEZONE
BEGIN:VEVENT
DTSTART;TZID=America/New_York:20260120T093000
DTEND;TZID=America/New_York:20260120T110000
DTSTAMP:20260420T005746
CREATED:20260114T215048Z
LAST-MODIFIED:20260321T220506Z
UID:10030051-1768901400-1768906800@www.ashevillenc.gov
SUMMARY:Historic Resources Commission Executive Committee (Virtual)
DESCRIPTION:
URL:https://www.ashevillenc.gov/event/hrc-executive-committee-regular-meeting/
CATEGORIES:Historic Resources Commission
END:VEVENT
BEGIN:VEVENT
DTSTART;TZID=America/New_York:20260120T100000
DTEND;TZID=America/New_York:20260120T120000
DTSTAMP:20260420T005746
CREATED:20251022T170540Z
LAST-MODIFIED:20260321T220506Z
UID:10029833-1768903200-1768910400@www.ashevillenc.gov
SUMMARY:Housing and Community Development Committee (Virtual)
DESCRIPTION:
URL:https://www.ashevillenc.gov/event/housing-and-community-development-committee-virtual-9/
CATEGORIES:Housing and Community Development
END:VEVENT
BEGIN:VEVENT
DTSTART;TZID=America/New_York:20260120T130000
DTEND;TZID=America/New_York:20260120T150000
DTSTAMP:20260420T005746
CREATED:20251022T170541Z
LAST-MODIFIED:20260321T220507Z
UID:10029834-1768914000-1768921200@www.ashevillenc.gov
SUMMARY:Planning\, Economic Development and Environment Committee (Virtual)
DESCRIPTION:
URL:https://www.ashevillenc.gov/event/planning-economic-development-and-environment-committee-virtual-9/
CATEGORIES:Planning, Economic Development and Environment Committee
END:VEVENT
BEGIN:VEVENT
DTSTART;TZID=America/New_York:20260120T173000
DTEND;TZID=America/New_York:20260120T190000
DTSTAMP:20260420T005746
CREATED:20260112T213533Z
LAST-MODIFIED:20260321T220508Z
UID:10030045-1768930200-1768935600@www.ashevillenc.gov
SUMMARY:Oakley Traffic Conversation (Thompson St. Venue)
DESCRIPTION:
URL:https://www.ashevillenc.gov/event/oakley-traffic-conversation-thompson-st-venue/
END:VEVENT
BEGIN:VEVENT
DTSTART;VALUE=DATE:20260120
DTEND;VALUE=DATE:20260121
DTSTAMP:20260420T005746
CREATED:20251022T172045Z
LAST-MODIFIED:20260321T220508Z
UID:10029837-1768932000-1768935600@www.ashevillenc.gov
SUMMARY:Burton St Community Association Monthly Meeting
DESCRIPTION:
URL:https://www.ashevillenc.gov/event/burton-st-community-association-monthly-meeting-4/
END:VEVENT
END:VCALENDAR