BEGIN:VCALENDAR
VERSION:2.0
PRODID:-//The City of Asheville - ECPv6.15.15//NONSGML v1.0//EN
CALSCALE:GREGORIAN
METHOD:PUBLISH
X-WR-CALNAME:The City of Asheville
X-ORIGINAL-URL:https://www.ashevillenc.gov
X-WR-CALDESC:Events for The City of Asheville
REFRESH-INTERVAL;VALUE=DURATION:PT1H
X-Robots-Tag:noindex
X-PUBLISHED-TTL:PT1H
BEGIN:VTIMEZONE
TZID:America/New_York
BEGIN:DAYLIGHT
TZOFFSETFROM:-0500
TZOFFSETTO:-0400
TZNAME:EDT
DTSTART:20250309T070000
END:DAYLIGHT
BEGIN:STANDARD
TZOFFSETFROM:-0400
TZOFFSETTO:-0500
TZNAME:EST
DTSTART:20251102T060000
END:STANDARD
BEGIN:DAYLIGHT
TZOFFSETFROM:-0500
TZOFFSETTO:-0400
TZNAME:EDT
DTSTART:20260308T070000
END:DAYLIGHT
BEGIN:STANDARD
TZOFFSETFROM:-0400
TZOFFSETTO:-0500
TZNAME:EST
DTSTART:20261101T060000
END:STANDARD
BEGIN:DAYLIGHT
TZOFFSETFROM:-0500
TZOFFSETTO:-0400
TZNAME:EDT
DTSTART:20270314T070000
END:DAYLIGHT
BEGIN:STANDARD
TZOFFSETFROM:-0400
TZOFFSETTO:-0500
TZNAME:EST
DTSTART:20271107T060000
END:STANDARD
END:VTIMEZONE
BEGIN:VEVENT
DTSTART;TZID=America/New_York:20260114T100000
DTEND;TZID=America/New_York:20260114T120000
DTSTAMP:20260420T005746
CREATED:20260108T182044Z
LAST-MODIFIED:20260315T220505Z
UID:10030033-1768384800-1768392000@www.ashevillenc.gov
SUMMARY:Special Meeting: Asheville Regional Housing Consortium (Virtual)
DESCRIPTION:
URL:https://www.ashevillenc.gov/event/special-meeting-asheville-regional-housing-consortium-virtual/
CATEGORIES:Asheville Regional Housing Consortium
END:VEVENT
BEGIN:VEVENT
DTSTART;TZID=America/New_York:20260114T160000
DTEND;TZID=America/New_York:20260114T180000
DTSTAMP:20260420T005746
CREATED:20251110T182041Z
LAST-MODIFIED:20260315T220505Z
UID:10029902-1768406400-1768413600@www.ashevillenc.gov
SUMMARY:Historic Resources Commission (In-Person)
DESCRIPTION:
URL:https://www.ashevillenc.gov/event/historic-resources-commission-in-person-7/
CATEGORIES:Historic Resources Commission
END:VEVENT
BEGIN:VEVENT
DTSTART;TZID=America/New_York:20260114T173000
DTEND;TZID=America/New_York:20260114T193000
DTSTAMP:20260420T005746
CREATED:20260105T182025Z
LAST-MODIFIED:20260315T220506Z
UID:10030025-1768411800-1768419000@www.ashevillenc.gov
SUMMARY:Connect Buncombe Annual Meeting
DESCRIPTION:
URL:https://www.ashevillenc.gov/event/connect-buncombe-annual-meeting/
END:VEVENT
END:VCALENDAR