BEGIN:VCALENDAR
VERSION:2.0
PRODID:-//The City of Asheville - ECPv6.15.15//NONSGML v1.0//EN
CALSCALE:GREGORIAN
METHOD:PUBLISH
X-ORIGINAL-URL:https://www.ashevillenc.gov
X-WR-CALDESC:Events for The City of Asheville
REFRESH-INTERVAL;VALUE=DURATION:PT1H
X-Robots-Tag:noindex
X-PUBLISHED-TTL:PT1H
BEGIN:VTIMEZONE
TZID:America/New_York
BEGIN:DAYLIGHT
TZOFFSETFROM:-0500
TZOFFSETTO:-0400
TZNAME:EDT
DTSTART:20240310T070000
END:DAYLIGHT
BEGIN:STANDARD
TZOFFSETFROM:-0400
TZOFFSETTO:-0500
TZNAME:EST
DTSTART:20241103T060000
END:STANDARD
BEGIN:DAYLIGHT
TZOFFSETFROM:-0500
TZOFFSETTO:-0400
TZNAME:EDT
DTSTART:20250309T070000
END:DAYLIGHT
BEGIN:STANDARD
TZOFFSETFROM:-0400
TZOFFSETTO:-0500
TZNAME:EST
DTSTART:20251102T060000
END:STANDARD
BEGIN:DAYLIGHT
TZOFFSETFROM:-0500
TZOFFSETTO:-0400
TZNAME:EDT
DTSTART:20260308T070000
END:DAYLIGHT
BEGIN:STANDARD
TZOFFSETFROM:-0400
TZOFFSETTO:-0500
TZNAME:EST
DTSTART:20261101T060000
END:STANDARD
END:VTIMEZONE
BEGIN:VEVENT
DTSTART;TZID=America/New_York:20250927T083000
DTEND;TZID=America/New_York:20250927T093000
DTSTAMP:20260422T052027
CREATED:20250924T170516Z
LAST-MODIFIED:20251126T235004Z
UID:10029748-1758961800-1758965400@www.ashevillenc.gov
SUMMARY:CoA Helene Milestone Breakfast
DESCRIPTION:
URL:https://www.ashevillenc.gov/event/coa-helene-milestone-breakfast/
END:VEVENT
BEGIN:VEVENT
DTSTART;TZID=America/New_York:20250927T100000
DTEND;TZID=America/New_York:20250927T170000
DTSTAMP:20260422T052027
CREATED:20250826T031030Z
LAST-MODIFIED:20251126T235005Z
UID:10023594-1758967200-1758992400@www.ashevillenc.gov
SUMMARY:Thank You To The Volunteers Celebration
DESCRIPTION:
URL:https://www.ashevillenc.gov/event/thank-you-to-the-volunteers-celebration/
END:VEVENT
END:VCALENDAR